BEGIN:VCALENDAR
VERSION:2.0
PRODID:-//Soges - ECPv6.0.11//NONSGML v1.0//EN
CALSCALE:GREGORIAN
METHOD:PUBLISH
X-WR-CALNAME:Soges
X-ORIGINAL-URL:https://soges.com.br
X-WR-CALDESC:Eventos para Soges
REFRESH-INTERVAL;VALUE=DURATION:PT1H
X-Robots-Tag:noindex
X-PUBLISHED-TTL:PT1H
BEGIN:VTIMEZONE
TZID:America/Sao_Paulo
BEGIN:STANDARD
TZOFFSETFROM:-0300
TZOFFSETTO:-0300
TZNAME:-03
DTSTART:20250101T000000
END:STANDARD
END:VTIMEZONE
BEGIN:VEVENT
DTSTART;TZID=America/Sao_Paulo:20250906T210000
DTEND;TZID=America/Sao_Paulo:20250906T210000
DTSTAMP:20260422T190329
CREATED:20250825T132801Z
LAST-MODIFIED:20250825T133048Z
UID:4871-1757192400-1757192400@soges.com.br
SUMMARY:Festa Flashback – Anos 90 e 00’s.
DESCRIPTION:No sábado\, 06 de setembro\, a partir das 21h\, a SOGES vai te levar de volta no tempo com a Festa Flashback – Anos 90 e 00’s. \nA animação da noite fica por conta do Pato Bom\, trazendo muita música\, diversão e nostalgia na Boate do Clube. \nValores antecipados: \nSócio: R$ 25\,00 \nNão sócio: R$ 35\,00 \nAtenção: os ingressos adquiridos na hora terão valor alterado. \nVenha reviver os clássicos que marcaram época e dançar até de madrugada!
URL:https://soges.com.br/evento/festa-flashback-anos-90-e-00s/
LOCATION:Boate Soges\, Rua Tiradentes\, 318 - Centro\, Estrela\, RS\, 95880-000\, Brasil
ATTACH;FMTTYPE=image/jpeg:https://soges.com.br/wp-content/uploads/2025/08/WhatsApp-Image-2025-08-18-at-10.37.32.jpeg
END:VEVENT
BEGIN:VEVENT
DTSTART;TZID=America/Sao_Paulo:20250925T200000
DTEND;TZID=America/Sao_Paulo:20250925T200000
DTSTAMP:20260422T190329
CREATED:20250915T133119Z
LAST-MODIFIED:20250915T133319Z
UID:4977-1758830400-1758830400@soges.com.br
SUMMARY:Herta no Divã – Uma Diva no Divã
DESCRIPTION:Prepare-se para dar boas risadas com Herta no Divã – Uma Diva no Divã! \nIngressos limitados para associados da SOGES: R$ 25\,00 (à venda na secretaria do clube)\nClassificação indicativa: 14 anos
URL:https://soges.com.br/evento/herta-no-diva-uma-diva-no-diva/
LOCATION:RS
ATTACH;FMTTYPE=image/jpeg:https://soges.com.br/wp-content/uploads/2025/09/WhatsApp-Image-2025-08-08-at-14.25.00.jpeg
END:VEVENT
BEGIN:VEVENT
DTSTART;TZID=America/Sao_Paulo:20251115T170000
DTEND;TZID=America/Sao_Paulo:20251115T170000
DTSTAMP:20260422T190329
CREATED:20251027T124632Z
LAST-MODIFIED:20251027T124633Z
UID:5128-1763226000-1763226000@soges.com.br
SUMMARY:4º Festival da Cerveja SOGES
DESCRIPTION:Prepare-se para curtir muito! \nNo 4º Festival da Cerveja SOGES\, além de muita cerveja e diversão\, teremos show ao vivo com Automóvel Verde\, Sputnick e La Tônia Rock. \nIngressos disponíveis na secretaria do clube ou na portaria da Sede Campestre.
URL:https://soges.com.br/evento/4o-festival-da-cerveja-soges/
LOCATION:RS
ATTACH;FMTTYPE=image/jpeg:https://soges.com.br/wp-content/uploads/2025/10/WhatsApp-Image-2025-10-16-at-14.50.58.jpeg
END:VEVENT
BEGIN:VEVENT
DTSTART;VALUE=DATE:20260310
DTEND;VALUE=DATE:20260322
DTSTAMP:20260422T190329
CREATED:20260206T022733Z
LAST-MODIFIED:20260206T023505Z
UID:5388-1773100800-1774137599@soges.com.br
SUMMARY:Torneio Abertura de Tênis 2026
DESCRIPTION:Departamento de Tênis da Soges dá inicio ao ano de 2026 com o Torneio Abertura 🎾 \n📅 Data: 10 a 21/03/2026\n🏅 Categorias: 1ª\, 2ª e Iniciantes\n🎭 Duplas escolhidas\n💰 Valor: R$ 54 por atleta \nGaranta sua vaga! Inscrições até 28/02 no grupo de WhatsApp Tênis Soges. \n⏳Não fique de fora! Participe e comece o ano com grandes disputas\, incentivando o tênis! 🎾🔥
URL:https://soges.com.br/evento/torneio-abertura-de-tenis-2026/
LOCATION:Quadras de Tênis\, Rua 25 de Julho Alto da Bronze\, Estrela\, RS\, 95880-000\, Brazil
CATEGORIES:Tênis
END:VEVENT
END:VCALENDAR